BEGIN:VCALENDAR
VERSION:2.0
PRODID:-//167 Central Ave  - ECPv6.15.20//NONSGML v1.0//EN
CALSCALE:GREGORIAN
METHOD:PUBLISH
X-ORIGINAL-URL:https://bookings.chippewafamilies.ca
X-WR-CALDESC:Events for 167 Central Ave 
REFRESH-INTERVAL;VALUE=DURATION:PT1H
X-Robots-Tag:noindex
X-PUBLISHED-TTL:PT1H
BEGIN:VTIMEZONE
TZID:America/Toronto
BEGIN:DAYLIGHT
TZOFFSETFROM:-0500
TZOFFSETTO:-0400
TZNAME:EDT
DTSTART:20250309T070000
END:DAYLIGHT
BEGIN:STANDARD
TZOFFSETFROM:-0400
TZOFFSETTO:-0500
TZNAME:EST
DTSTART:20251102T060000
END:STANDARD
BEGIN:DAYLIGHT
TZOFFSETFROM:-0500
TZOFFSETTO:-0400
TZNAME:EDT
DTSTART:20260308T070000
END:DAYLIGHT
BEGIN:STANDARD
TZOFFSETFROM:-0400
TZOFFSETTO:-0500
TZNAME:EST
DTSTART:20261101T060000
END:STANDARD
BEGIN:DAYLIGHT
TZOFFSETFROM:-0500
TZOFFSETTO:-0400
TZNAME:EDT
DTSTART:20270314T070000
END:DAYLIGHT
BEGIN:STANDARD
TZOFFSETFROM:-0400
TZOFFSETTO:-0500
TZNAME:EST
DTSTART:20271107T060000
END:STANDARD
END:VTIMEZONE
BEGIN:VEVENT
DTSTART;TZID=America/Toronto:20260413T093000
DTEND;TZID=America/Toronto:20260413T153000
DTSTAMP:20260419T115740
CREATED:20260306T192157Z
LAST-MODIFIED:20260306T192157Z
UID:815-1776072600-1776094200@bookings.chippewafamilies.ca
SUMMARY:Occupied – Training & Conference Room
DESCRIPTION:
URL:https://bookings.chippewafamilies.ca/booking/occupied-training-conference-room-8/
CATEGORIES:Training & Conference Room
END:VEVENT
BEGIN:VEVENT
DTSTART;TZID=America/Toronto:20260409T130000
DTEND;TZID=America/Toronto:20260409T150000
DTSTAMP:20260419T115740
CREATED:20260409T130623Z
LAST-MODIFIED:20260409T130623Z
UID:862-1775739600-1775746800@bookings.chippewafamilies.ca
SUMMARY:Occupied – Training & Conference Room
DESCRIPTION:
URL:https://bookings.chippewafamilies.ca/booking/occupied-training-conference-room-19/
CATEGORIES:Training & Conference Room
END:VEVENT
BEGIN:VEVENT
DTSTART;TZID=America/Toronto:20260326T080000
DTEND;TZID=America/Toronto:20260326T170000
DTSTAMP:20260419T115740
CREATED:20260320T182928Z
LAST-MODIFIED:20260320T182928Z
UID:830-1774512000-1774544400@bookings.chippewafamilies.ca
SUMMARY:Occupied – Training & Conference Room
DESCRIPTION:
URL:https://bookings.chippewafamilies.ca/booking/occupied-training-conference-room-11/
CATEGORIES:Training & Conference Room
END:VEVENT
BEGIN:VEVENT
DTSTART;TZID=America/Toronto:20260325T080000
DTEND;TZID=America/Toronto:20260325T170000
DTSTAMP:20260419T115740
CREATED:20260320T183035Z
LAST-MODIFIED:20260320T183035Z
UID:832-1774425600-1774458000@bookings.chippewafamilies.ca
SUMMARY:Occupied – Training & Conference Room
DESCRIPTION:
URL:https://bookings.chippewafamilies.ca/booking/occupied-training-conference-room-12/
CATEGORIES:Training & Conference Room
END:VEVENT
BEGIN:VEVENT
DTSTART;TZID=America/Toronto:20260324T080000
DTEND;TZID=America/Toronto:20260324T170000
DTSTAMP:20260419T115740
CREATED:20260320T182431Z
LAST-MODIFIED:20260320T182431Z
UID:824-1774339200-1774371600@bookings.chippewafamilies.ca
SUMMARY:Occupied – Training & Conference Room
DESCRIPTION:
URL:https://bookings.chippewafamilies.ca/booking/occupied-training-conference-room-9/
CATEGORIES:Training & Conference Room
END:VEVENT
BEGIN:VEVENT
DTSTART;TZID=America/Toronto:20260323T080000
DTEND;TZID=America/Toronto:20260323T170000
DTSTAMP:20260419T115740
CREATED:20260320T183315Z
LAST-MODIFIED:20260320T183315Z
UID:834-1774252800-1774285200@bookings.chippewafamilies.ca
SUMMARY:Occupied – Training & Conference Room
DESCRIPTION:
URL:https://bookings.chippewafamilies.ca/booking/occupied-training-conference-room-13/
CATEGORIES:Training & Conference Room
END:VEVENT
BEGIN:VEVENT
DTSTART;TZID=America/Toronto:20260226T130000
DTEND;TZID=America/Toronto:20260226T150000
DTSTAMP:20260419T115740
CREATED:20260225T193415Z
LAST-MODIFIED:20260225T193415Z
UID:811-1772110800-1772118000@bookings.chippewafamilies.ca
SUMMARY:Occupied – Training & Conference Room
DESCRIPTION:
URL:https://bookings.chippewafamilies.ca/booking/occupied-training-conference-room-7/
CATEGORIES:Training & Conference Room
END:VEVENT
BEGIN:VEVENT
DTSTART;TZID=America/Toronto:20260224T090000
DTEND;TZID=America/Toronto:20260224T153000
DTSTAMP:20260419T115740
CREATED:20260206T173753Z
LAST-MODIFIED:20260206T173753Z
UID:798-1771923600-1771947000@bookings.chippewafamilies.ca
SUMMARY:Occupied – Training & Conference Room
DESCRIPTION:
URL:https://bookings.chippewafamilies.ca/booking/occupied-training-conference-room-6/
CATEGORIES:Training & Conference Room
END:VEVENT
BEGIN:VEVENT
DTSTART;TZID=America/Toronto:20260123T090000
DTEND;TZID=America/Toronto:20260123T170000
DTSTAMP:20260419T115740
CREATED:20260119T193747Z
LAST-MODIFIED:20260119T193747Z
UID:796-1769158800-1769187600@bookings.chippewafamilies.ca
SUMMARY:Occupied – Training & Conference Room
DESCRIPTION:
URL:https://bookings.chippewafamilies.ca/booking/occupied-training-conference-room-5/
CATEGORIES:Training & Conference Room
END:VEVENT
BEGIN:VEVENT
DTSTART;TZID=America/Toronto:20260122T090000
DTEND;TZID=America/Toronto:20260122T170000
DTSTAMP:20260419T115740
CREATED:20260119T193650Z
LAST-MODIFIED:20260119T193650Z
UID:794-1769072400-1769101200@bookings.chippewafamilies.ca
SUMMARY:Occupied – Training & Conference Room
DESCRIPTION:
URL:https://bookings.chippewafamilies.ca/booking/occupied-training-conference-room-4/
CATEGORIES:Training & Conference Room
END:VEVENT
BEGIN:VEVENT
DTSTART;TZID=America/Toronto:20260121T090000
DTEND;TZID=America/Toronto:20260121T170000
DTSTAMP:20260419T115740
CREATED:20260119T193329Z
LAST-MODIFIED:20260119T193329Z
UID:792-1768986000-1769014800@bookings.chippewafamilies.ca
SUMMARY:Occupied – Training & Conference Room
DESCRIPTION:
URL:https://bookings.chippewafamilies.ca/booking/occupied-training-conference-room-3/
CATEGORIES:Training & Conference Room
END:VEVENT
BEGIN:VEVENT
DTSTART;TZID=America/Toronto:20260120T090000
DTEND;TZID=America/Toronto:20260120T170000
DTSTAMP:20260419T115740
CREATED:20260119T193129Z
LAST-MODIFIED:20260119T193129Z
UID:790-1768899600-1768928400@bookings.chippewafamilies.ca
SUMMARY:Occupied – Training & Conference Room
DESCRIPTION:
URL:https://bookings.chippewafamilies.ca/booking/occupied-training-conference-room-2/
CATEGORIES:Training & Conference Room
END:VEVENT
BEGIN:VEVENT
DTSTART;TZID=America/Toronto:20260119T090000
DTEND;TZID=America/Toronto:20260119T170000
DTSTAMP:20260419T115740
CREATED:20260119T192948Z
LAST-MODIFIED:20260119T192948Z
UID:788-1768813200-1768842000@bookings.chippewafamilies.ca
SUMMARY:Occupied – Training & Conference Room
DESCRIPTION:
URL:https://bookings.chippewafamilies.ca/booking/occupied-training-conference-room/
CATEGORIES:Training & Conference Room
END:VEVENT
END:VCALENDAR